BEGIN:VCALENDAR
VERSION:2.0
PRODID:-//eventon.com NONSGML v1.0//EN
CALSCALE:GREGORIAN
METHOD:PUBLISH
BEGIN:VEVENT
UID:69e86bbb326e4
DTSTAMP:20260422T063331Z
DTSTART:20230720T183000Z
DTEND:20230720T235000Z
LOCATION:Diocesan Pastoral Center 330 Wyoming Ave\,  Scranton PA
SUMMARY:Suicide Grief Support Series
DESCRIPTION:\nhttps://www.dioceseofscranton.org/events/99107/
URL:https://www.dioceseofscranton.org/events/99107/
END:VEVENT
END:VCALENDAR