BEGIN:VCALENDAR
VERSION:2.0
PRODID:-//eventon.com NONSGML v1.0//EN
CALSCALE:GREGORIAN
METHOD:PUBLISH
BEGIN:VEVENT
UID:69e7e71037794
DTSTAMP:20260421T210728Z
DTSTART:20230610T080000Z
DTEND:20230610T170000Z
LOCATION:Marywood University
SUMMARY:Catholic Women's Conference
DESCRIPTION:Catholic Women’s Conference Saturday June 10\,  2023 will be 
 an exciting day for the Scranton area! Women from the Diocese and beyond wi
 ll have the opportunity to attend the 5th Annual day-long Refresh Your Fait
 h Catholic Women’s Conference. This year’s theme is “With the Holy Sp
 irit”; it will beheld indoors[..]\nhttps://www.dioceseofscranton.org/even
 ts/catholic-womens-conference/
URL:https://www.dioceseofscranton.org/events/catholic-womens-conference/
END:VEVENT
END:VCALENDAR