BEGIN:VCALENDAR
VERSION:2.0
PRODID:-//eventon.com NONSGML v1.0//EN
CALSCALE:GREGORIAN
METHOD:PUBLISH
BEGIN:VEVENT
UID:69e4d662a7a63
DTSTAMP:20260419T131930Z
DTSTART:20230427T090000Z
DTEND:20230427T235000Z
LOCATION:Saint Patrick Parish\,  Scranton
SUMMARY:All Saints Academy School Mass
DESCRIPTION:All Saints Academy School Mass\nhttps://www.dioceseofscranton.o
 rg/events/all-saints-academy-school-mass/
URL:https://www.dioceseofscranton.org/events/all-saints-academy-school-mass/
END:VEVENT
END:VCALENDAR