BEGIN:VCALENDAR
VERSION:2.0
PRODID:-//eventon.com NONSGML v1.0//EN
CALSCALE:GREGORIAN
METHOD:PUBLISH
BEGIN:VEVENT
UID:69e5e6b38c57b
DTSTAMP:20260420T084123Z
DTSTART:20230405T170000Z
DTEND:20230405T235000Z
LOCATION:Saint Robert Bellarmine Parish\,  Wilkes-Barre
SUMMARY:Confirmation
DESCRIPTION:April 17                       Confirmati
 on for St. Robert Bellarmine Parish\,  Wilkes-Barre Exaltation of the Holy 
 Cross Parish\,  Hanover Twp. St. John the Baptist Parish\,  Larksville All 
 Saints Parish\,  Plymouth At St. Robert Bellarmine Parish Wilkes-Barre 5:00
  p.m. &nbsp;\nhttps://www.dioceseofscranton.org/events/confirmation-2/
URL:https://www.dioceseofscranton.org/events/confirmation-2/
END:VEVENT
END:VCALENDAR