BEGIN:VCALENDAR
VERSION:2.0
PRODID:-//eventon.com NONSGML v1.0//EN
CALSCALE:GREGORIAN
METHOD:PUBLISH
BEGIN:VEVENT
UID:69e8a3953c445
DTSTAMP:20260422T103149Z
DTSTART:20221113T120000Z
DTEND:20221113T040000Z
LOCATION:Stirna&#039;s Restaurant\,  Scranton
SUMMARY:Parish Annual Roast Beef Dinner
DESCRIPTION:Mary\,  Mother of God’s  Annual Roast Beef Dinner will be he
 ld on Sunday\,  November 13th from 12 pm – 4 pm at Stirna’s Restaurant.
  Tickets will be $11 for adults if purchased in advance\,  and $14 at the d
 oor. This year’s raffles are for an overnight stay for four (4)[..]\nhttp
 s://www.dioceseofscranton.org/events/parish-annual-roast-beef-dinner/
URL:https://www.dioceseofscranton.org/events/parish-annual-roast-beef-dinner/
END:VEVENT
END:VCALENDAR