BEGIN:VCALENDAR
VERSION:2.0
PRODID:-//eventon.com NONSGML v1.0//EN
CALSCALE:GREGORIAN
METHOD:PUBLISH
BEGIN:VEVENT
UID:69e5e6b2d41d3
DTSTAMP:20260420T084122Z
DTSTART:20220723
DTEND:20220724
LOCATION:Our Lady of the Snows and Saint Benedict\,  Clarks Summit
SUMMARY:Celebration of Parish Mass
DESCRIPTION:Celebration of Parish Mass Our Lady of the Snows Church Saint B
 enedict’s Church &nbsp;\nhttps://www.dioceseofscranton.org/events/celebra
 tion-of-parish-mass/
URL:https://www.dioceseofscranton.org/events/celebration-of-parish-mass/
END:VEVENT
END:VCALENDAR