BEGIN:VCALENDAR
VERSION:2.0
PRODID:-//eventon.com NONSGML v1.0//EN
CALSCALE:GREGORIAN
METHOD:PUBLISH
BEGIN:VEVENT
UID:69e9e090487f1
DTSTAMP:20260423T090416Z
DTSTART:20220506T140000Z
DTEND:20220506T235000Z
LOCATION:King&#039;s College
SUMMARY:Inauguration of Father Thomas P. Looney President of King’s College
DESCRIPTION:Inauguration of Father Thomas P. Looney President of King’s C
 ollege\nhttps://www.dioceseofscranton.org/events/inauguration-of-father-tho
 mas-p-looney-president-of-kings-college/
URL:https://www.dioceseofscranton.org/events/inauguration-of-father-thomas-p-looney-president-of-kings-college/
END:VEVENT
END:VCALENDAR