BEGIN:VCALENDAR
VERSION:2.0
PRODID:-//eventon.com NONSGML v1.0//EN
CALSCALE:GREGORIAN
METHOD:PUBLISH
BEGIN:VEVENT
UID:69e9f62c02336
DTSTAMP:20260423T103628Z
DTSTART:20220430T100000Z
DTEND:20220430T150000Z
LOCATION:Saint Joseph Marello\,  Pittston
SUMMARY:Spring Craft Fair
DESCRIPTION:The St. Joseph Marello Altar and Rosary Society will be hosting
  a Spring Craft Fair from 10 am to 3 pm\,  Saturday\,  April 30th\,  in the
  Parish Center at St. Joseph Marello Parish\,   237 William St.\,  Pittsto
 n. The event will include dozens of specialty vendors\,  including a wide v
 ariety of[..]\nhttps://www.dioceseofscranton.org/events/spring-craft-fair/
URL:https://www.dioceseofscranton.org/events/spring-craft-fair/
END:VEVENT
END:VCALENDAR