BEGIN:VCALENDAR
VERSION:2.0
PRODID:-//eventon.com NONSGML v1.0//EN
CALSCALE:GREGORIAN
METHOD:PUBLISH
BEGIN:VEVENT
UID:69e7b0a55868f
DTSTAMP:20260421T171517Z
DTSTART:20220326T090000Z
DTEND:20220326T143000Z
LOCATION:
SUMMARY:Extraordinary Minister of Communion Training Session
DESCRIPTION:Extraordinary Minister of Communion Training Session The Office
  for Parish Life will offer an all-day training session for new Extraordina
 ry Ministers of Communion at the Diocesan Pastoral Center in Scranton on Sa
 turday\,  March 26\,  2022 from 9:00AM to 2:30PM at the Diocesan Pastoral C
 enter\,  Scranton. There is no fee for[..]\nhttps://www.dioceseofscranton.o
 rg/events/extraordinary-minister-of-communion-training-session-5/
URL:https://www.dioceseofscranton.org/events/extraordinary-minister-of-communion-training-session-5/
END:VEVENT
END:VCALENDAR