BEGIN:VCALENDAR
VERSION:2.0
PRODID:-//eventon.com NONSGML v1.0//EN
CALSCALE:GREGORIAN
METHOD:PUBLISH
BEGIN:VEVENT
UID:69e898c2d8559
DTSTAMP:20260422T094538Z
DTSTART:20210415T153000Z
DTEND:20210415T161500Z
LOCATION:
SUMMARY:Early Childhood Educators-Checking In on You!  Webinar
DESCRIPTION:Early Childhood Educators – Checking In On You! Webinar Looki
 ng for ways to work effectively with young children and their families? Joi
 n Pam Perrino in exploring some simple self-reflection strategies you can u
 se to check in on your ability to operate effectively while helping childre
 n navigate big emotions in little[..]\nhttps://www.dioceseofscranton.org/ev
 ents/71862/
URL:https://www.dioceseofscranton.org/events/71862/
END:VEVENT
END:VCALENDAR