BEGIN:VCALENDAR
VERSION:2.0
PRODID:-//eventon.com NONSGML v1.0//EN
CALSCALE:GREGORIAN
METHOD:PUBLISH
BEGIN:VEVENT
UID:69e689dd2343e
DTSTAMP:20260420T201733Z
DTSTART:20210121T110000Z
DTEND:20210121T130000Z
LOCATION:
SUMMARY:Sadlier Lenten Retreat
DESCRIPTION:Lenten Inspiration for Families As your Lenten plans evolve\,  
 please know that the Office for Parish Life Office remains focused on your 
 work and ministry therefore\,  we will continue to send you resources to st
 ay connected during Lent. Below is a Lenten Retreat offered through Sadlier
  on January 21\,  2021[..]\nhttps://www.dioceseofscranton.org/events/sadlie
 r-lenten-retreat/
URL:https://www.dioceseofscranton.org/events/sadlier-lenten-retreat/
END:VEVENT
END:VCALENDAR