BEGIN:VCALENDAR
VERSION:2.0
PRODID:-//eventon.com NONSGML v1.0//EN
CALSCALE:GREGORIAN
METHOD:PUBLISH
BEGIN:VEVENT
UID:69e9f62a086e6
DTSTAMP:20260423T103626Z
DTSTART:20190720T083000Z
DTEND:20190720T160000Z
LOCATION:Good Shepherd Church 87 S Hunter Hwy
SUMMARY:Pre Cana
DESCRIPTION:Pre Cana\nhttps://www.dioceseofscranton.org/events/pre-cana-5/
URL:https://www.dioceseofscranton.org/events/pre-cana-5/
END:VEVENT
END:VCALENDAR