BEGIN:VCALENDAR
VERSION:2.0
PRODID:-//eventon.com NONSGML v1.0//EN
CALSCALE:GREGORIAN
METHOD:PUBLISH
BEGIN:VEVENT
UID:69e9f624d43e9
DTSTAMP:20260423T103620Z
DTSTART:20190708
DTEND:20190709
LOCATION:
SUMMARY:ISLI
DESCRIPTION:ISLI\nhttps://www.dioceseofscranton.org/events/isli-2/
URL:https://www.dioceseofscranton.org/events/isli-2/
END:VEVENT
END:VCALENDAR