BEGIN:VCALENDAR
VERSION:2.0
PRODID:-//eventon.com NONSGML v1.0//EN
CALSCALE:GREGORIAN
METHOD:PUBLISH
BEGIN:VEVENT
UID:69ea3ceb796dc
DTSTAMP:20260423T153819Z
DTSTART:20190319T173000Z
DTEND:20190319T193000Z
LOCATION:Catholic Social Services
SUMMARY:CSS Substance Abuse Workshop
DESCRIPTION:Catholic Social Services will host a free\,  six-week informati
 onal workshop on substance abuse from March 19 through April 23. The goal o
 f the workshop is to help family members learn more about substance abuse s
 o that they might be better able to support\,  assist and understand a fami
 ly member that[..]\nhttps://www.dioceseofscranton.org/events/css-substance-
 abuse-workshop/
URL:https://www.dioceseofscranton.org/events/css-substance-abuse-workshop/
END:VEVENT
END:VCALENDAR