BEGIN:VCALENDAR
VERSION:2.0
PRODID:-//eventon.com NONSGML v1.0//EN
CALSCALE:GREGORIAN
METHOD:PUBLISH
BEGIN:VEVENT
UID:69e62f7078601
DTSTAMP:20260420T135144Z
DTSTART:20260520T170000Z
DTEND:20260520T235900Z
LOCATION:Our Lady of Lourdes Parish Montoursville 800 Mulberry Street
SUMMARY:Confirmation for Our Lady of Lourdes and Resurrection Parishes
DESCRIPTION:May 20 -  Our Lady of Lourdes Parish\,  Montoursville\,  5:00 
 p.m.\nhttps://www.dioceseofscranton.org/events/confirmation-for-our-lady-of
 -lourdes-and-resurrection-parishes/
URL:https://www.dioceseofscranton.org/events/confirmation-for-our-lady-of-lourdes-and-resurrection-parishes/
END:VEVENT
END:VCALENDAR