BEGIN:VCALENDAR
VERSION:2.0
PRODID:-//eventon.com NONSGML v1.0//EN
CALSCALE:GREGORIAN
METHOD:PUBLISH
BEGIN:VEVENT
UID:69e62fc608005
DTSTAMP:20260420T135310Z
DTSTART:20260519T120000Z
DTEND:20260519T235900Z
LOCATION:Lackawanna County Prison
SUMMARY:Mass at the Lackawanna County Prison
DESCRIPTION:\nhttps://www.dioceseofscranton.org/events/mass-at-the-lackawan
 na-county-prison/
URL:https://www.dioceseofscranton.org/events/mass-at-the-lackawanna-county-prison/
END:VEVENT
END:VCALENDAR