BEGIN:VCALENDAR
VERSION:2.0
PRODID:-//eventon.com NONSGML v1.0//EN
CALSCALE:GREGORIAN
METHOD:PUBLISH
BEGIN:VEVENT
UID:69e62ff326774
DTSTAMP:20260420T135355Z
DTSTART:20260518T170000Z
DTEND:20260518T135100Z
LOCATION:Saints Peter and Paul Parish Towanda 106 Third Street
SUMMARY:Confirmation for SS Peter & Paul\,  Epiphany\,  Saint Michael\,  Immaculate Heart of Mary and Our Lady of Perpetual Help Parishes
DESCRIPTION:\nhttps://www.dioceseofscranton.org/events/confirmation-for-ss-
 peter-paul-epiphany-saint-michael-immaculate-heart-of-mary-and-our-lady-of-
 perpetual-help-parishes/
URL:https://www.dioceseofscranton.org/events/confirmation-for-ss-peter-paul-epiphany-saint-michael-immaculate-heart-of-mary-and-our-lady-of-perpetual-help-parishes/
END:VEVENT
END:VCALENDAR