BEGIN:VCALENDAR
VERSION:2.0
PRODID:-//eventon.com NONSGML v1.0//EN
CALSCALE:GREGORIAN
METHOD:PUBLISH
BEGIN:VEVENT
UID:69e62fc488bb8
DTSTAMP:20260420T135308Z
DTSTART:20260517T090000Z
DTEND:20260517T235900Z
LOCATION:Sacred Heart of Mary Church 624 Madison Avenue Jermyn
SUMMARY:Mass for the Seventh Sunday of Easter
DESCRIPTION:\nhttps://www.dioceseofscranton.org/events/mass-for-the-seventh
 -sunday-of-easter/
URL:https://www.dioceseofscranton.org/events/mass-for-the-seventh-sunday-of-easter/
END:VEVENT
END:VCALENDAR