BEGIN:VCALENDAR
VERSION:2.0
PRODID:-//eventon.com NONSGML v1.0//EN
CALSCALE:GREGORIAN
METHOD:PUBLISH
BEGIN:VEVENT
UID:69e62f6fe9395
DTSTAMP:20260420T135143Z
DTSTART:20260516T130000Z
DTEND:20260516T235900Z
LOCATION:Mohegan Sun Arena
SUMMARY:Commencement for Marywood University
DESCRIPTION:May 16 - Mohegan Arena at Casey Plaza\,  Wilkes-Barre Twp.\,  1
 :00 p.m.\nhttps://www.dioceseofscranton.org/events/commencement-for-marywoo
 d-university-2/
URL:https://www.dioceseofscranton.org/events/commencement-for-marywood-university-2/
END:VEVENT
END:VCALENDAR