BEGIN:VCALENDAR
VERSION:2.0
PRODID:-//eventon.com NONSGML v1.0//EN
CALSCALE:GREGORIAN
METHOD:PUBLISH
BEGIN:VEVENT
UID:69e62fb071afc
DTSTAMP:20260420T135248Z
DTSTART:20260515T130000Z
DTEND:20260515T235900Z
LOCATION:Mohegan Sun Arena
SUMMARY:Commencement for King’s College
DESCRIPTION:\nhttps://www.dioceseofscranton.org/events/commencement-for-kin
 gs-college-2/
URL:https://www.dioceseofscranton.org/events/commencement-for-kings-college-2/
END:VEVENT
END:VCALENDAR