BEGIN:VCALENDAR
VERSION:2.0
PRODID:-//eventon.com NONSGML v1.0//EN
CALSCALE:GREGORIAN
METHOD:PUBLISH
BEGIN:VEVENT
UID:69e62fc2d8825
DTSTAMP:20260420T135306Z
DTSTART:20260511T170000Z
DTEND:20260511T235900Z
LOCATION:Most Holy Trinity Parish 236 Route 390\,  Cresco
SUMMARY:Confirmation for Saint Maximilian Kolbe\,  Saint Rita and Most Holy Trinity Parishes
DESCRIPTION:May 11 - Confirmation for Saint Maximilian Kolbe\,  Saint Rita 
 and Most Holy Trinity Parishes Most Holy Trinity Parish\,  Cresco\,  5:00 p
 .m.\nhttps://www.dioceseofscranton.org/events/confirmation-for-saint-maximi
 lian-kolbe-saint-rita-and-most-holy-trinity-parishes/
URL:https://www.dioceseofscranton.org/events/confirmation-for-saint-maximilian-kolbe-saint-rita-and-most-holy-trinity-parishes/
END:VEVENT
END:VCALENDAR