BEGIN:VCALENDAR
VERSION:2.0
PRODID:-//eventon.com NONSGML v1.0//EN
CALSCALE:GREGORIAN
METHOD:PUBLISH
BEGIN:VEVENT
UID:69e62fafc517e
DTSTAMP:20260420T135247Z
DTSTART:20260510T100000Z
DTEND:20260510T235900Z
LOCATION:Cathedral of Saint Peter 315 Wyoming Ave. Scranton\,  PA
SUMMARY:Mother's Day Mass
DESCRIPTION:May 10 - Mother’s Day Adoption Mass Cathedral of Saint Peter\
 ,  Scranton\,  10:00 a.m.\nhttps://www.dioceseofscranton.org/events/mothers
 -day-mass/
URL:https://www.dioceseofscranton.org/events/mothers-day-mass/
END:VEVENT
END:VCALENDAR