BEGIN:VCALENDAR
VERSION:2.0
PRODID:-//eventon.com NONSGML v1.0//EN
CALSCALE:GREGORIAN
METHOD:PUBLISH
BEGIN:VEVENT
UID:69e88a17a2fed
DTSTAMP:20260422T084303Z
DTSTART:20260509T140000Z
DTEND:20260509T235900Z
LOCATION:Misericordia University Dallas
SUMMARY:Commencement for Misericordia University
DESCRIPTION:May 9 - Commencement for Misericordia University Dallas\,  2:00
  p.m.\nhttps://www.dioceseofscranton.org/events/128537/
URL:https://www.dioceseofscranton.org/events/128537/
END:VEVENT
END:VCALENDAR