BEGIN:VCALENDAR
VERSION:2.0
PRODID:-//eventon.com NONSGML v1.0//EN
CALSCALE:GREGORIAN
METHOD:PUBLISH
BEGIN:VEVENT
UID:69e62faf0b911
DTSTAMP:20260420T135247Z
DTSTART:20260507T183000Z
DTEND:20260507T235900Z
LOCATION:Church of St. John\,  East Stroudsburg
SUMMARY:Confirmation for Saint John Parish
DESCRIPTION:\nhttps://www.dioceseofscranton.org/events/confirmation-for-sai
 nt-john-parish/
URL:https://www.dioceseofscranton.org/events/confirmation-for-saint-john-parish/
END:VEVENT
END:VCALENDAR