BEGIN:VCALENDAR
VERSION:2.0
PRODID:-//eventon.com NONSGML v1.0//EN
CALSCALE:GREGORIAN
METHOD:PUBLISH
BEGIN:VEVENT
UID:69e62fb09fb2b
DTSTAMP:20260420T135248Z
DTSTART:20260506T170000Z
DTEND:20260506T235900Z
LOCATION:Saint John Bosco Parish\,  Conyngham 2 Charles Avenue
SUMMARY:Confirmation for Saint John Bosco Parish
DESCRIPTION:May 6 -  Saint John Bosco Parish\,  Conyngham\,  5:00 p.m.\nht
 tps://www.dioceseofscranton.org/events/confirmation-for-saint-john-bosco-pa
 rish/
URL:https://www.dioceseofscranton.org/events/confirmation-for-saint-john-bosco-parish/
END:VEVENT
END:VCALENDAR