BEGIN:VCALENDAR
VERSION:2.0
PRODID:-//eventon.com NONSGML v1.0//EN
CALSCALE:GREGORIAN
METHOD:PUBLISH
BEGIN:VEVENT
UID:69e62fc57f588
DTSTAMP:20260420T135309Z
DTSTART:20260430T170000Z
DTEND:20260430T235900Z
LOCATION:Immaculate Conception Parish\,  Freeland
SUMMARY:Confirmation for Immaculate Conception\,  Saint Patrick and Good Shepherd Parishes
DESCRIPTION:April 30 -    Immaculate Conception Parish\,  Freeland\,  5:0
 0 p.m.\nhttps://www.dioceseofscranton.org/events/confirmation-for-immaculat
 e-conception-saint-patrick-and-good-shepherd-parishes/
URL:https://www.dioceseofscranton.org/events/confirmation-for-immaculate-conception-saint-patrick-and-good-shepherd-parishes/
END:VEVENT
END:VCALENDAR