BEGIN:VCALENDAR
VERSION:2.0
PRODID:-//eventon.com NONSGML v1.0//EN
CALSCALE:GREGORIAN
METHOD:PUBLISH
BEGIN:VEVENT
UID:69e62fc4349b7
DTSTAMP:20260420T135308Z
DTSTART:20260429T123000Z
DTEND:20260429T235900Z
LOCATION:Saint Agnes School\,  Towanda
SUMMARY:School Mass for Saint Agnes School
DESCRIPTION:\nhttps://www.dioceseofscranton.org/events/school-mass-for-sain
 t-agnes-school-2/
URL:https://www.dioceseofscranton.org/events/school-mass-for-saint-agnes-school-2/
END:VEVENT
END:VCALENDAR