BEGIN:VCALENDAR
VERSION:2.0
PRODID:-//eventon.com NONSGML v1.0//EN
CALSCALE:GREGORIAN
METHOD:PUBLISH
BEGIN:VEVENT
UID:69e62ff220323
DTSTAMP:20260420T135354Z
DTSTART:20260427T170000Z
DTEND:20260427T235900Z
LOCATION:Saint Therese\,  Shavertown
SUMMARY:Confirmation for Saint Therese and Saint Frances Cabrini Parishes
DESCRIPTION:April 27 -  Saint Therese Parish\,  Shavertown\,  5:00 p.m.\nh
 ttps://www.dioceseofscranton.org/events/confirmation-for-saint-therese-and-
 saint-frances-cabrini-parishes/
URL:https://www.dioceseofscranton.org/events/confirmation-for-saint-therese-and-saint-frances-cabrini-parishes/
END:VEVENT
END:VCALENDAR