BEGIN:VCALENDAR
VERSION:2.0
PRODID:-//eventon.com NONSGML v1.0//EN
CALSCALE:GREGORIAN
METHOD:PUBLISH
BEGIN:VEVENT
UID:69e62ff472c82
DTSTAMP:20260420T135356Z
DTSTART:20260423T170000Z
DTEND:20260423T235900Z
LOCATION:
SUMMARY:Confirmation for Saint Robert Bellarmine\,  Exaltation of the Holy Cross\,  Saint John the Baptist and All Saints Parishes
DESCRIPTION:\nhttps://www.dioceseofscranton.org/events/confirmation-for-sai
 nt-robert-bellarmine-exaltation-of-the-holy-cross-saint-john-the-baptist-an
 d-all-saints-parishes/
URL:https://www.dioceseofscranton.org/events/confirmation-for-saint-robert-bellarmine-exaltation-of-the-holy-cross-saint-john-the-baptist-and-all-saints-parishes/
END:VEVENT
END:VCALENDAR