BEGIN:VCALENDAR
VERSION:2.0
PRODID:-//eventon.com NONSGML v1.0//EN
CALSCALE:GREGORIAN
METHOD:PUBLISH
BEGIN:VEVENT
UID:69e88e402b167
DTSTAMP:20260422T090048Z
DTSTART:20260422T090000Z
DTEND:20260422T235900Z
LOCATION:
SUMMARY:School Mass for Notre Dame Elementary & Jr./Sr. High School East Stroudsburg
DESCRIPTION:\nhttps://www.dioceseofscranton.org/events/school-mass-for-notr
 e-dame-elementary-jr-sr-high-school-east-stroudsburg/
URL:https://www.dioceseofscranton.org/events/school-mass-for-notre-dame-elementary-jr-sr-high-school-east-stroudsburg/
END:VEVENT
END:VCALENDAR