BEGIN:VCALENDAR
VERSION:2.0
PRODID:-//eventon.com NONSGML v1.0//EN
CALSCALE:GREGORIAN
METHOD:PUBLISH
BEGIN:VEVENT
UID:69e62ff357c3c
DTSTAMP:20260420T135355Z
DTSTART:20260421T090000Z
DTEND:20260421T235900Z
LOCATION:Holy Cross High School\,  Dunmore
SUMMARY:School Mass for Holy Cross High School Dunmore
DESCRIPTION:\nhttps://www.dioceseofscranton.org/events/school-mass-for-holy
 -cross-high-school-dunmore/
URL:https://www.dioceseofscranton.org/events/school-mass-for-holy-cross-high-school-dunmore/
END:VEVENT
END:VCALENDAR