BEGIN:VCALENDAR
VERSION:2.0
PRODID:-//eventon.com NONSGML v1.0//EN
CALSCALE:GREGORIAN
METHOD:PUBLISH
BEGIN:VEVENT
UID:69e62fc34cdd5
DTSTAMP:20260420T135307Z
DTSTART:20260420T170000Z
DTEND:20260420T235900Z
LOCATION:Saint John the Evangelist\,  Pittston
SUMMARY:Confirmation for Saint John the Evangelist\,  Saint Joseph Marello\,  Our Lady of the Eucharist\,  Queen of the Apostles and Sacred Heart of Jesus Parishes
DESCRIPTION:\nhttps://www.dioceseofscranton.org/events/confirmation-for-sai
 nt-john-the-evangelist-saint-joseph-marello-our-lady-of-the-eucharist-queen
 -of-the-apostles-and-sacred-heart-of-jesus-parishes/
URL:https://www.dioceseofscranton.org/events/confirmation-for-saint-john-the-evangelist-saint-joseph-marello-our-lady-of-the-eucharist-queen-of-the-apostles-and-sacred-heart-of-jesus-parishes/
END:VEVENT
END:VCALENDAR