BEGIN:VCALENDAR
VERSION:2.0
PRODID:-//eventon.com NONSGML v1.0//EN
CALSCALE:GREGORIAN
METHOD:PUBLISH
BEGIN:VEVENT
UID:69e7bb86ccf03
DTSTAMP:20260421T180142Z
DTSTART:20260409T121000Z
DTEND:20260409T235900Z
LOCATION:Cathedral of Saint Peter 315 Wyoming Ave. Scranton\,  PA
SUMMARY:Healing Mass for Survivors of Abuse
DESCRIPTION:\nhttps://www.dioceseofscranton.org/events/healing-mass-for-sur
 vivors-of-abuse/
URL:https://www.dioceseofscranton.org/events/healing-mass-for-survivors-of-abuse/
END:VEVENT
END:VCALENDAR