BEGIN:VCALENDAR
VERSION:2.0
PRODID:-//eventon.com NONSGML v1.0//EN
CALSCALE:GREGORIAN
METHOD:PUBLISH
BEGIN:VEVENT
UID:69e7bfa305737
DTSTAMP:20260421T181915Z
DTSTART:20260405T100000Z
DTEND:20260405T235900Z
LOCATION:Cathedral of Saint Peter 315 Wyoming Ave. Scranton\,  PA
SUMMARY:Easter Sunday Mass
DESCRIPTION:\nhttps://www.dioceseofscranton.org/events/easter-sunday-mass-1
 3/
URL:https://www.dioceseofscranton.org/events/easter-sunday-mass-13/
END:VEVENT
END:VCALENDAR