BEGIN:VCALENDAR
VERSION:2.0
PRODID:-//eventon.com NONSGML v1.0//EN
CALSCALE:GREGORIAN
METHOD:PUBLISH
BEGIN:VEVENT
UID:69e7bd5940ffc
DTSTAMP:20260421T180929Z
DTSTART:20260404T200000Z
DTEND:20260404T235900Z
LOCATION:Cathedral of Saint Peter 315 Wyoming Ave. Scranton\,  PA
SUMMARY:Easter Vigil Mass
DESCRIPTION:\nhttps://www.dioceseofscranton.org/events/easter-vigil-mass-10
 /
URL:https://www.dioceseofscranton.org/events/easter-vigil-mass-10/
END:VEVENT
END:VCALENDAR