BEGIN:VCALENDAR
VERSION:2.0
PRODID:-//eventon.com NONSGML v1.0//EN
CALSCALE:GREGORIAN
METHOD:PUBLISH
BEGIN:VEVENT
UID:69e7b877a96a4
DTSTAMP:20260421T174839Z
DTSTART:20260403T121000Z
DTEND:20260403T235900Z
LOCATION:Cathedral of Saint Peter 315 Wyoming Ave. Scranton\,  PA
SUMMARY:Commemoration of the Lord's Passion
DESCRIPTION:\nhttps://www.dioceseofscranton.org/events/commemoration-of-the
 -lords-passion-13/
URL:https://www.dioceseofscranton.org/events/commemoration-of-the-lords-passion-13/
END:VEVENT
END:VCALENDAR