BEGIN:VCALENDAR
VERSION:2.0
PRODID:-//eventon.com NONSGML v1.0//EN
CALSCALE:GREGORIAN
METHOD:PUBLISH
BEGIN:VEVENT
UID:69e7b887f2ecc
DTSTAMP:20260421T174855Z
DTSTART:20260402T173000Z
DTEND:20260402T235900Z
LOCATION:Cathedral of Saint Peter 315 Wyoming Ave. Scranton\,  PA
SUMMARY:Evening Mass of the Lord's Supper
DESCRIPTION:\nhttps://www.dioceseofscranton.org/events/evening-mass-of-the-
 lords-supper/
URL:https://www.dioceseofscranton.org/events/evening-mass-of-the-lords-supper/
END:VEVENT
END:VCALENDAR