BEGIN:VCALENDAR
VERSION:2.0
PRODID:-//eventon.com NONSGML v1.0//EN
CALSCALE:GREGORIAN
METHOD:PUBLISH
BEGIN:VEVENT
UID:69e9e0d41a2e4
DTSTAMP:20260423T090524Z
DTSTART:20260313T180000Z
DTEND:20260313T235900Z
LOCATION:Scranton
SUMMARY:Friendly Sons of Saint Patrick Dinner
DESCRIPTION:\nhttps://www.dioceseofscranton.org/events/friendly-sons-of-sai
 nt-patrick-dinner-2/
URL:https://www.dioceseofscranton.org/events/friendly-sons-of-saint-patrick-dinner-2/
END:VEVENT
END:VCALENDAR