BEGIN:VCALENDAR
VERSION:2.0
PRODID:-//eventon.com NONSGML v1.0//EN
CALSCALE:GREGORIAN
METHOD:PUBLISH
BEGIN:VEVENT
UID:69e799ab515c7
DTSTAMP:20260421T153715Z
DTSTART:20260413
DTEND:20260414
LOCATION:Saint Elizabeth Ann Seton Parish 116 Hughes Street\,  Swoyersville
SUMMARY:Rummage Sale
DESCRIPTION:\nhttps://www.dioceseofscranton.org/events/rummage-sale-10/
URL:https://www.dioceseofscranton.org/events/rummage-sale-10/
END:VEVENT
END:VCALENDAR