BEGIN:VCALENDAR
VERSION:2.0
PRODID:-//eventon.com NONSGML v1.0//EN
CALSCALE:GREGORIAN
METHOD:PUBLISH
BEGIN:VEVENT
UID:69e852a7a7ef3
DTSTAMP:20260422T044631Z
DTSTART:20250914T103000Z
DTEND:20250914T235900Z
LOCATION:Saint Augustine Church\,  Silver Lake
SUMMARY:200th Anniversary Mass for Saint Augustine Church
DESCRIPTION:\nhttps://www.dioceseofscranton.org/events/200th-anniversary-ma
 ss-for-saint-augustine-church/
URL:https://www.dioceseofscranton.org/events/200th-anniversary-mass-for-saint-augustine-church/
END:VEVENT
END:VCALENDAR