BEGIN:VCALENDAR
VERSION:2.0
PRODID:-//eventon.com NONSGML v1.0//EN
CALSCALE:GREGORIAN
METHOD:PUBLISH
BEGIN:VEVENT
UID:69e8a3d0eca1f
DTSTAMP:20260422T103248Z
DTSTART:20250910T100000Z
DTEND:20250910T235900Z
LOCATION:Hideaway Hills Golf Club\,  Kunkletown
SUMMARY:Our Lady of Victory Golf Tournament
DESCRIPTION:Golf tourney set for Sept. 10ᵗʰ TANNERSVILLE\,  Pa. (July 20
 \,  2025) -- Our Lady of Victory Church in Tannersville will host its 25ᵗ
 ʰ annual golf tournament on Wednesday\,  Sept. 10ᵗʰ\,  at the scenic Hi
 deaway Hills Golf Club in Kunkletown\,  a premier 18-hole\,  par 72\,  6\, 
 933-yard golf course. Two "hole-in-one" contests[..]\nhttps://www.dioceseof
 scranton.org/events/our-lady-of-victory-golf-tournament/
URL:https://www.dioceseofscranton.org/events/our-lady-of-victory-golf-tournament/
END:VEVENT
END:VCALENDAR