BEGIN:VCALENDAR
VERSION:2.0
PRODID:-//eventon.com NONSGML v1.0//EN
CALSCALE:GREGORIAN
METHOD:PUBLISH
BEGIN:VEVENT
UID:69e88e3f7fa0e
DTSTAMP:20260422T090047Z
DTSTART:20250318
DTEND:20250319
LOCATION:Saint Lawrence Hall 800 W Central Ave Williamsport
SUMMARY:Saint Boniface Church Celebrates 50 Years History
DESCRIPTION:  History of St Boniface Church  Tuesday\,  March 18  2:00 &
 amp; 7:00 PM With Jack Houston at St Lawrence Hall\nhttps://www.dioceseofsc
 ranton.org/events/saint-boniface-church-celebrates-50-years-history/
URL:https://www.dioceseofscranton.org/events/saint-boniface-church-celebrates-50-years-history/
END:VEVENT
END:VCALENDAR