BEGIN:VCALENDAR
VERSION:2.0
PRODID:-//eventon.com NONSGML v1.0//EN
CALSCALE:GREGORIAN
METHOD:PUBLISH
BEGIN:VEVENT
UID:69ecc41b13ea2
DTSTAMP:20260425T133939Z
DTSTART:20241002
DTEND:20241003
LOCATION:Our Lady of Hope Parish\,  40 Park Ave.\,  Wilkes-Barre
SUMMARY:Novena to Saint Anthony
DESCRIPTION:A novena to Saint Anthony will be conducted every Tuesday at 5:
 30 p.m. at our Lady of Hope Parish in Wilkes-Barre. The devotion will be ni
 ne consecutive Tuesdays \,  October 22 - December 18th. The theme of this y
 ear's novena is the Mystery of Suffering and the Saints For more[..]\nhttps
 ://www.dioceseofscranton.org/events/novena-to-saint-anthony-3/
URL:https://www.dioceseofscranton.org/events/novena-to-saint-anthony-3/
END:VEVENT
END:VCALENDAR