BEGIN:VCALENDAR
VERSION:2.0
PRODID:-//eventon.com NONSGML v1.0//EN
CALSCALE:GREGORIAN
METHOD:PUBLISH
BEGIN:VEVENT
UID:69ea00e935af7
DTSTAMP:20260423T112217Z
DTSTART:20240725T190000Z
DTEND:20240725T235000Z
LOCATION:Cathedral of Saint Peter 315 Wyoming Ave. Scranton\,  PA
SUMMARY:Mass of Remembrance
DESCRIPTION:Mass of Remembrance\nhttps://www.dioceseofscranton.org/events/m
 ass-of-remembrance-7/
URL:https://www.dioceseofscranton.org/events/mass-of-remembrance-7/
END:VEVENT
END:VCALENDAR