BEGIN:VCALENDAR
VERSION:2.0
PRODID:-//eventon.com NONSGML v1.0//EN
CALSCALE:GREGORIAN
METHOD:PUBLISH
BEGIN:VEVENT
UID:69e7b0a480aa8
DTSTAMP:20260421T171516Z
DTSTART:20240611T110000Z
DTEND:20240611T235000Z
LOCATION:St. Anthony St. George Church\,  311 Park Ave.\,  Wilkes-Barre
SUMMARY:Birthday Celebration for Msgr. John Esseff
DESCRIPTION:\nhttps://www.dioceseofscranton.org/events/birthday-celebration
 -for-msgr-john-esseff/
URL:https://www.dioceseofscranton.org/events/birthday-celebration-for-msgr-john-esseff/
END:VEVENT
END:VCALENDAR