BEGIN:VCALENDAR
VERSION:2.0
PRODID:-//eventon.com NONSGML v1.0//EN
CALSCALE:GREGORIAN
METHOD:PUBLISH
BEGIN:VEVENT
UID:69e9f657dd731
DTSTAMP:20260423T103711Z
DTSTART:20240317T140000Z
DTEND:20240317T235000Z
LOCATION:Saint Ignatius of Loyola\,  Kingston
SUMMARY:Slovak Stations of the Cross and Lenten Hymn Sing
DESCRIPTION:\nhttps://www.dioceseofscranton.org/events/slovak-stations-of-t
 he-cross-and-lenten-hymn-sing-2/
URL:https://www.dioceseofscranton.org/events/slovak-stations-of-the-cross-and-lenten-hymn-sing-2/
END:VEVENT
END:VCALENDAR