BEGIN:VCALENDAR
VERSION:2.0
PRODID:-//eventon.com NONSGML v1.0//EN
CALSCALE:GREGORIAN
METHOD:PUBLISH
BEGIN:VEVENT
UID:69e9e072447c6
DTSTAMP:20260423T090346Z
DTSTART:20231104T090000Z
DTEND:20231104T140000Z
LOCATION:Queen of the Apostles\,  Avoca
SUMMARY:Fall & Holiday Craft Show
DESCRIPTION:\nhttps://www.dioceseofscranton.org/events/fall-holiday-craft-s
 how/
URL:https://www.dioceseofscranton.org/events/fall-holiday-craft-show/
END:VEVENT
END:VCALENDAR