BEGIN:VCALENDAR
VERSION:2.0
PRODID:-//eventon.com NONSGML v1.0//EN
CALSCALE:GREGORIAN
METHOD:PUBLISH
BEGIN:VEVENT
UID:69e9e1322581c
DTSTAMP:20260423T090658Z
DTSTART:20231116T190000Z
DTEND:20231116T235000Z
LOCATION:Saint Jude\,  Mountain Top
SUMMARY:Journeying Together with Christ – A Mass for Mental Health
DESCRIPTION:Journeying Together with Christ – A Mass for Mental Health Th
 ursday\,  November 16\,  2023 07:00 pm St. Jude Parish 420 S. Mountain Boul
 evard Mountain Top The Mental Health Ministry of St. Jude and St. Mary’s 
 parishes invites you to save the date—Thursday\,  November 16 @ 7 PM—fo
 r Journeying Together with[..]\nhttps://www.dioceseofscranton.org/events/jo
 urneying-together-with-christ-a-mass-for-mental-health/
URL:https://www.dioceseofscranton.org/events/journeying-together-with-christ-a-mass-for-mental-health/
END:VEVENT
END:VCALENDAR